BEGIN:VCALENDAR
PRODID:-//http://statistik.d-u-v.org//PHP ultracalendar//EN
VERSION:2.0
METHOD:PUBLISH
BEGIN:VEVENT
DTSTAMP:20260422T221341
CREATED:20210202T074903
UID:1776896021.0.70799900-75128@statistik.d-u-v.org
SUMMARY:QMRRC 12h (Dusk to Dawn) Road Race
DESCRIPTION: QMRRC 12h (Dusk to Dawn) Road Race\n
  Ian Javes\n
  
DTSTART:19900908T180000
DTEND:00000000T235900
LOCATION:Caboolture, QLD\, AUS
URL:
CATEGORIES:Ultramarathon
CONTACT:Ian Javes
CLASS:PUBLIC
PRIORITY:5
TRANSP:OPAQUE
END:VEVENT
END:VCALENDAR
