BEGIN:VCALENDAR
PRODID:-//http://statistik.d-u-v.org//PHP ultracalendar//EN
VERSION:2.0
METHOD:PUBLISH
BEGIN:VEVENT
DTSTAMP:20260424T155235
CREATED:20210126T164412
UID:1777045955.0.06755600-74983@statistik.d-u-v.org
SUMMARY:7 to 7 Ultramarathon
DESCRIPTION: 7 to 7 Ultramarathon\n
  이규익\n
  hanhk12[at]hanmail.net
DTSTART:20110822T190000
DTEND:20110823T070000
LOCATION:Seoul City\, KOR
URL:http://www.roadrun.co.kr/schedule/view.php?no=3653
CATEGORIES:Ultramarathon
CONTACT:이규익
CLASS:PUBLIC
PRIORITY:5
TRANSP:OPAQUE
END:VEVENT
END:VCALENDAR
