BEGIN:VCALENDAR
PRODID:-//http://statistik.d-u-v.org//PHP ultracalendar//EN
VERSION:2.0
METHOD:PUBLISH
BEGIN:VEVENT
DTSTAMP:20260423T035833
CREATED:20100804T180146
UID:1776916713.0.51673300-7497@statistik.d-u-v.org
SUMMARY:6h Kaustinen
DESCRIPTION: 6h Kaustinen\n
  \n
  jteirikangas[at]gmail.com
DTSTART:20100801T000000
DTEND:00000000T235900
LOCATION:Kaustinen\, FIN
URL:http://www.endurance.fi/tapahtumia/kaustinen_6h_24h_2009.pdf
CATEGORIES:Ultramarathon
CONTACT:
CLASS:PUBLIC
PRIORITY:5
TRANSP:OPAQUE
END:VEVENT
END:VCALENDAR
