BEGIN:VCALENDAR
PRODID:-//http://statistik.d-u-v.org//PHP ultracalendar//EN
VERSION:2.0
METHOD:PUBLISH
BEGIN:VEVENT
DTSTAMP:20260422T221412
CREATED:20100227T065654
UID:1776896052.0.93709600-7494@statistik.d-u-v.org
SUMMARY:Caboolture Historical Village 48h - 24h Split
DESCRIPTION: Caboolture Historical Village 48h - 24h Split\n
  Geoff Williams\n
  gjcarpet[at]caboolture.net.au
DTSTART:20100730T000000
DTEND:20100731T235900
LOCATION:Caboolture, QLD\, AUS
URL:http://geoffsruns.com/
CATEGORIES:Ultramarathon
CONTACT:Geoff Williams
CLASS:PUBLIC
PRIORITY:5
TRANSP:OPAQUE
END:VEVENT
END:VCALENDAR
