BEGIN:VCALENDAR
PRODID:-//http://statistik.d-u-v.org//PHP ultracalendar//EN
VERSION:2.0
METHOD:PUBLISH
BEGIN:VEVENT
DTSTAMP:20260424T163019
CREATED:20210124T153759
UID:1777048219.0.75470400-74915@statistik.d-u-v.org
SUMMARY:Berry Long Run
DESCRIPTION: Berry Long Run\n
  \n
  
DTSTART:20210814T000000
DTEND:00000000T235900
LOCATION:Blackwood, VIC\, AUS
URL:http://berrylongrun.com/
CATEGORIES:Ultramarathon
CONTACT:
CLASS:PUBLIC
PRIORITY:5
TRANSP:OPAQUE
END:VEVENT
END:VCALENDAR
