BEGIN:VCALENDAR
PRODID:-//http://statistik.d-u-v.org//PHP ultracalendar//EN
VERSION:2.0
METHOD:PUBLISH
BEGIN:VEVENT
DTSTAMP:20260423T012144
CREATED:20210120T192123
UID:1776907304.0.52484700-74872@statistik.d-u-v.org
SUMMARY:Swiss Jura Marathon Etappe 6 Biel-Balsthal
DESCRIPTION: Swiss Jura Marathon Etappe 6 Biel-Balsthal\n
  Urs Schüpbach\n
  u.schuepbach[at]freesurf.ch
DTSTART:20040709T000000
DTEND:00000000T235900
LOCATION:Biel\, SUI
URL:http://www.swissjuramarathon.com
CATEGORIES:Ultramarathon
CONTACT:Urs Schüpbach
CLASS:PUBLIC
PRIORITY:5
TRANSP:OPAQUE
END:VEVENT
END:VCALENDAR
