BEGIN:VCALENDAR
PRODID:-//http://statistik.d-u-v.org//PHP ultracalendar//EN
VERSION:2.0
METHOD:PUBLISH
BEGIN:VEVENT
DTSTAMP:20260419T183253
CREATED:20210120T122120
UID:1776623573.0.37423500-74865@statistik.d-u-v.org
SUMMARY:Cornbelt Running Club 24 Hour Run
DESCRIPTION: Cornbelt Running Club 24 Hour Run\n
  \n
  
DTSTART:19990501T000000
DTEND:19990502T235900
LOCATION:Eldridge, IA\, USA
URL:http://www.cornbelt.org/
CATEGORIES:Ultramarathon
CONTACT:
CLASS:PUBLIC
PRIORITY:5
TRANSP:OPAQUE
END:VEVENT
END:VCALENDAR
