BEGIN:VCALENDAR
PRODID:-//http://statistik.d-u-v.org//PHP ultracalendar//EN
VERSION:2.0
METHOD:PUBLISH
BEGIN:VEVENT
DTSTAMP:20260422T194008
CREATED:20100802T070105
UID:1776886808.0.32955800-7476@statistik.d-u-v.org
SUMMARY:Lange Laufnacht von Ulm 50 km (Start Blaustein)
DESCRIPTION: Lange Laufnacht von Ulm 50 km (Start Blaustein)\n
  \n
  info[at]ulmer-laufnacht.de
DTSTART:20110701T230000
DTEND:20110702T090000
LOCATION:Blaustein\, GER
URL:http://www.ulmer-100km.de/
CATEGORIES:Ultramarathon
CONTACT:
CLASS:PUBLIC
PRIORITY:5
TRANSP:OPAQUE
END:VEVENT
END:VCALENDAR
