BEGIN:VCALENDAR
PRODID:-//http://statistik.d-u-v.org//PHP ultracalendar//EN
VERSION:2.0
METHOD:PUBLISH
BEGIN:VEVENT
DTSTAMP:20260424T155232
CREATED:20210113T164416
UID:1777045952.0.48837300-74720@statistik.d-u-v.org
SUMMARY:Buddha's Palm 50km Ultramarathon
DESCRIPTION: Buddha's Palm 50km Ultramarathon\n
  \n
  run247go[at]yahoo.com.tw
DTSTART:20211106T060000
DTEND:00000000T235900
LOCATION:Tamsui District\, TPE
URL:https://docs.google.com/document/d/11e9XALOJbr3rC4zJo-2qOvMXFayyVpLsDu5F19z6M1A/edit#
CATEGORIES:Ultramarathon
CONTACT:
CLASS:PUBLIC
PRIORITY:5
TRANSP:OPAQUE
END:VEVENT
END:VCALENDAR
