BEGIN:VCALENDAR
PRODID:-//http://statistik.d-u-v.org//PHP ultracalendar//EN
VERSION:2.0
METHOD:PUBLISH
BEGIN:VEVENT
DTSTAMP:20260424T225510
CREATED:20210113T162605
UID:1777071310.0.54977700-74717@statistik.d-u-v.org
SUMMARY:Buddha's Palm 100km Ultramarathon
DESCRIPTION: Buddha's Palm 100km Ultramarathon\n
  \n
  run247go[at]yahoo.com.tw
DTSTART:20211106T060000
DTEND:00000000T235900
LOCATION:Tamsui District\, TPE
URL:https://docs.google.com/document/d/11e9XALOJbr3rC4zJo-2qOvMXFayyVpLsDu5F19z6M1A/edit#heading=h.40mi5gbkzixl
CATEGORIES:Ultramarathon
CONTACT:
CLASS:PUBLIC
PRIORITY:5
TRANSP:OPAQUE
END:VEVENT
END:VCALENDAR
