BEGIN:VCALENDAR
PRODID:-//http://statistik.d-u-v.org//PHP ultracalendar//EN
VERSION:2.0
METHOD:PUBLISH
BEGIN:VEVENT
DTSTAMP:20260423T035845
CREATED:20210113T125146
UID:1776916725.0.72822200-74703@statistik.d-u-v.org
SUMMARY:Daxingshan Temple Ultra Run
DESCRIPTION: Daxingshan Temple Ultra Run\n
  \n
  
DTSTART:20210206T060000
DTEND:00000000T235900
LOCATION:Sanyi Township\, TPE
URL:https://www.ibodygo.com.tw/EventTopic.aspx?n=1132
CATEGORIES:Ultramarathon
CONTACT:
CLASS:PUBLIC
PRIORITY:5
TRANSP:OPAQUE
END:VEVENT
END:VCALENDAR
