BEGIN:VCALENDAR
PRODID:-//http://statistik.d-u-v.org//PHP ultracalendar//EN
VERSION:2.0
METHOD:PUBLISH
BEGIN:VEVENT
DTSTAMP:20260423T034951
CREATED:20210108T161801
UID:1776916191.0.93172000-74577@statistik.d-u-v.org
SUMMARY:National Capital 36 Mile Run
DESCRIPTION: National Capital 36 Mile Run\n
  \n
  
DTSTART:19841007T000000
DTEND:00000000T235900
LOCATION:Alexandria, VA\, USA
URL:
CATEGORIES:Ultramarathon
CONTACT:
CLASS:PUBLIC
PRIORITY:5
TRANSP:OPAQUE
END:VEVENT
END:VCALENDAR
