BEGIN:VCALENDAR
PRODID:-//http://statistik.d-u-v.org//PHP ultracalendar//EN
VERSION:2.0
METHOD:PUBLISH
BEGIN:VEVENT
DTSTAMP:20260423T014958
CREATED:20210108T161638
UID:1776908998.0.49303000-74575@statistik.d-u-v.org
SUMMARY:Wolfpack Six Hour Run
DESCRIPTION: Wolfpack Six Hour Run\n
  \n
  
DTSTART:19841111T000000
DTEND:00000000T235900
LOCATION:Columbus, OH\, USA
URL:
CATEGORIES:Ultramarathon
CONTACT:
CLASS:PUBLIC
PRIORITY:5
TRANSP:OPAQUE
END:VEVENT
END:VCALENDAR
