BEGIN:VCALENDAR
PRODID:-//http://statistik.d-u-v.org//PHP ultracalendar//EN
VERSION:2.0
METHOD:PUBLISH
BEGIN:VEVENT
DTSTAMP:20260424T190205
CREATED:20210106T131043
UID:1777057325.0.32583300-74423@statistik.d-u-v.org
SUMMARY:Silverheels Trail Run - 100mi
DESCRIPTION: Silverheels Trail Run - 100mi\n
  Race Director John Lacroix\n
  sherpajohn[at]gmail.com
DTSTART:20210710T040000
DTEND:20210711T235900
LOCATION:Fairplay, CO\, USA
URL:http://humanpotentialrunning.com/races/silverheels-100-mile-race/
CATEGORIES:Ultramarathon
CONTACT:Race Director John Lacroix
CLASS:PUBLIC
PRIORITY:5
TRANSP:OPAQUE
END:VEVENT
END:VCALENDAR
