BEGIN:VCALENDAR
PRODID:-//http://statistik.d-u-v.org//PHP ultracalendar//EN
VERSION:2.0
METHOD:PUBLISH
BEGIN:VEVENT
DTSTAMP:20260422T221338
CREATED:20210106T130614
UID:1776896018.0.27281900-74422@statistik.d-u-v.org
SUMMARY:Cactus Rose 50 Mile
DESCRIPTION: Cactus Rose 50 Mile\n
  Chris McWatters\n
  chris[at]tejastrails.com
DTSTART:20211023T050000
DTEND:20211024T235900
LOCATION:Bandera, TX\, USA
URL:http://www.tejastrails.com/cactus/
CATEGORIES:Ultramarathon
CONTACT:Chris McWatters
CLASS:PUBLIC
PRIORITY:5
TRANSP:OPAQUE
END:VEVENT
END:VCALENDAR
