BEGIN:VCALENDAR
PRODID:-//http://statistik.d-u-v.org//PHP ultracalendar//EN
VERSION:2.0
METHOD:PUBLISH
BEGIN:VEVENT
DTSTAMP:20260419T213335
CREATED:20210105T174021
UID:1776634415.0.72882500-74382@statistik.d-u-v.org
SUMMARY:Sea Gate Ultras 60 Km Run
DESCRIPTION: Sea Gate Ultras 60 Km Run\n
  \n
  
DTSTART:19841124T000000
DTEND:00000000T235900
LOCATION:Toledo, OH\, USA
URL:
CATEGORIES:Ultramarathon
CONTACT:
CLASS:PUBLIC
PRIORITY:5
TRANSP:OPAQUE
END:VEVENT
END:VCALENDAR
