BEGIN:VCALENDAR
PRODID:-//http://statistik.d-u-v.org//PHP ultracalendar//EN
VERSION:2.0
METHOD:PUBLISH
BEGIN:VEVENT
DTSTAMP:20260419T164830
CREATED:20201231T151446
UID:1776617310.0.96086700-74212@statistik.d-u-v.org
SUMMARY:Nove Colli Running - Barbotto
DESCRIPTION: Nove Colli Running - Barbotto\n
  Mario Castagnoli\n
  mario.castagnoli45[at]gmail.com
DTSTART:20160521T000000
DTEND:20160522T235900
LOCATION:Cesenatico (FC)\, ITA
URL:http://www.novecollirunning.it
CATEGORIES:Ultramarathon
CONTACT:Mario Castagnoli
CLASS:PUBLIC
PRIORITY:5
TRANSP:OPAQUE
END:VEVENT
END:VCALENDAR
