BEGIN:VCALENDAR
PRODID:-//http://statistik.d-u-v.org//PHP ultracalendar//EN
VERSION:2.0
METHOD:PUBLISH
BEGIN:VEVENT
DTSTAMP:20260423T020228
CREATED:20201230T171129
UID:1776909748.0.36118700-74173@statistik.d-u-v.org
SUMMARY:Brighton Pier 50-Mile
DESCRIPTION: Brighton Pier 50-Mile\n
  \n
  
DTSTART:19860405T000000
DTEND:00000000T235900
LOCATION:Christchurch\, NZL
URL:
CATEGORIES:Ultramarathon
CONTACT:
CLASS:PUBLIC
PRIORITY:5
TRANSP:OPAQUE
END:VEVENT
END:VCALENDAR
