BEGIN:VCALENDAR
PRODID:-//http://statistik.d-u-v.org//PHP ultracalendar//EN
VERSION:2.0
METHOD:PUBLISH
BEGIN:VEVENT
DTSTAMP:20260423T024913
CREATED:20201228T153959
UID:1776912553.0.34045200-74102@statistik.d-u-v.org
SUMMARY:Spring 24 Hour Run
DESCRIPTION: Spring 24 Hour Run\n
  \n
  
DTSTART:19840324T000000
DTEND:19840325T235900
LOCATION:Ventura, CA\, USA
URL:
CATEGORIES:Ultramarathon
CONTACT:
CLASS:PUBLIC
PRIORITY:5
TRANSP:OPAQUE
END:VEVENT
END:VCALENDAR
