BEGIN:VCALENDAR
PRODID:-//http://statistik.d-u-v.org//PHP ultracalendar//EN
VERSION:2.0
METHOD:PUBLISH
BEGIN:VEVENT
DTSTAMP:20260419T184409
CREATED:20201226T234455
UID:1776624249.0.51791900-74044@statistik.d-u-v.org
SUMMARY:Endless Mile - 24 Hour Race
DESCRIPTION: Endless Mile - 24 Hour Race\n
  David Tosch\n
  david[at]davidtosch.com
DTSTART:20211023T090000
DTEND:20211023T090000
LOCATION:Alabaster, AL\, USA
URL:https://www.southeasterntrailruns.com/endless-mile.html
CATEGORIES:Ultramarathon
CONTACT:David Tosch
CLASS:PUBLIC
PRIORITY:5
TRANSP:OPAQUE
END:VEVENT
END:VCALENDAR
