BEGIN:VCALENDAR
PRODID:-//http://statistik.d-u-v.org//PHP ultracalendar//EN
VERSION:2.0
METHOD:PUBLISH
BEGIN:VEVENT
DTSTAMP:20260419T193904
CREATED:20201222T125247
UID:1776627544.0.35917800-73877@statistik.d-u-v.org
SUMMARY:The West Rock Winter Fat Ass Extravaganza 8 Hour Race
DESCRIPTION: The West Rock Winter Fat Ass Extravaganza 8 Hour Race\n
  \n
  jimmy[at]liveloudrunning.com
DTSTART:20201231T000000
DTEND:00000000T235900
LOCATION:Hamden, CT\, USA
URL:https://www.liveloudrunning.com/
CATEGORIES:Ultramarathon
CONTACT:
CLASS:PUBLIC
PRIORITY:5
TRANSP:OPAQUE
END:VEVENT
END:VCALENDAR
