BEGIN:VCALENDAR
PRODID:-//http://statistik.d-u-v.org//PHP ultracalendar//EN
VERSION:2.0
METHOD:PUBLISH
BEGIN:VEVENT
DTSTAMP:20260423T031415
CREATED:20201220T214947
UID:1776914055.0.54146800-73799@statistik.d-u-v.org
SUMMARY:Ushuaia Ultra Trail Race
DESCRIPTION: Ushuaia Ultra Trail Race\n
  \n
  ushuaiatrailrace[at]gmail.com
DTSTART:20210227T070000
DTEND:00000000T235900
LOCATION:Ushuaia\, ARG
URL:http://ushuaiatrailrace.com/
CATEGORIES:Ultramarathon
CONTACT:
CLASS:PUBLIC
PRIORITY:5
TRANSP:OPAQUE
END:VEVENT
END:VCALENDAR
