BEGIN:VCALENDAR
PRODID:-//http://statistik.d-u-v.org//PHP ultracalendar//EN
VERSION:2.0
METHOD:PUBLISH
BEGIN:VEVENT
DTSTAMP:20260420T003907
CREATED:20201220T123053
UID:1776645547.0.25058200-73757@statistik.d-u-v.org
SUMMARY:San Antonio to Austin 90-mile ultramarathon
DESCRIPTION: San Antonio to Austin 90-mile ultramarathon\n
  \n
  
DTSTART:19270325T031900
DTEND:00000000T235900
LOCATION:San Antonio, TX\, USA
URL:
CATEGORIES:Ultramarathon
CONTACT:
CLASS:PUBLIC
PRIORITY:5
TRANSP:OPAQUE
END:VEVENT
END:VCALENDAR
