BEGIN:VCALENDAR
PRODID:-//http://statistik.d-u-v.org//PHP ultracalendar//EN
VERSION:2.0
METHOD:PUBLISH
BEGIN:VEVENT
DTSTAMP:20260419T164900
CREATED:20201220T002909
UID:1776617340.0.81088400-73747@statistik.d-u-v.org
SUMMARY:Keys100 Ultra-Marathons 50km
DESCRIPTION: Keys100 Ultra-Marathons 50km\n
  Bob Becker\n
  bob[at]ultrasportsllc.com
DTSTART:20210515T123000
DTEND:20210516T003000
LOCATION:Big Pine Key, FL\, USA
URL:http://www.keys100.com/
CATEGORIES:Ultramarathon
CONTACT:Bob Becker
CLASS:PUBLIC
PRIORITY:5
TRANSP:OPAQUE
END:VEVENT
END:VCALENDAR
