BEGIN:VCALENDAR
PRODID:-//http://statistik.d-u-v.org//PHP ultracalendar//EN
VERSION:2.0
METHOD:PUBLISH
BEGIN:VEVENT
DTSTAMP:20260424T192422
CREATED:20201219T201628
UID:1777058662.0.52925000-73731@statistik.d-u-v.org
SUMMARY:Prueba de Fondo 'Los Montes de Vitoria'
DESCRIPTION: Prueba de Fondo 'Los Montes de Vitoria'\n
  \n
  10m[at]montesvitoria.com
DTSTART:20210626T060000
DTEND:00000000T235900
LOCATION:Uribarri-Jauregi\, ESP
URL:http://www.manueliradier.com
CATEGORIES:Ultramarathon
CONTACT:
CLASS:PUBLIC
PRIORITY:5
TRANSP:OPAQUE
END:VEVENT
END:VCALENDAR
