BEGIN:VCALENDAR
PRODID:-//http://statistik.d-u-v.org//PHP ultracalendar//EN
VERSION:2.0
METHOD:PUBLISH
BEGIN:VEVENT
DTSTAMP:20260423T113300
CREATED:20201219T151102
UID:1776943980.0.86478300-73699@statistik.d-u-v.org
SUMMARY:Survivorfest - 6 Hour
DESCRIPTION: Survivorfest - 6 Hour\n
  Laura Townsend\n
  survivorfest24[at]gmail.com
DTSTART:20210612T090000
DTEND:00000000T235900
LOCATION:Sherwood Park, AB\, CAN
URL:https://www.survivorfest24.com/
CATEGORIES:Ultramarathon
CONTACT:Laura Townsend
CLASS:PUBLIC
PRIORITY:5
TRANSP:OPAQUE
END:VEVENT
END:VCALENDAR
