BEGIN:VCALENDAR
PRODID:-//http://statistik.d-u-v.org//PHP ultracalendar//EN
VERSION:2.0
METHOD:PUBLISH
BEGIN:VEVENT
DTSTAMP:20260425T175953
CREATED:20201219T112823
UID:1777139993.0.42205600-73657@statistik.d-u-v.org
SUMMARY:Tynehead 8 Hour Race
DESCRIPTION: Tynehead 8 Hour Race\n
  \n
  info[at]wetcoastevents.com
DTSTART:20210703T000000
DTEND:00000000T235900
LOCATION:Surrey, BC\, CAN
URL:http://wetcoastevents.com/races/tynehead-8-hour/
CATEGORIES:Ultramarathon
CONTACT:
CLASS:PUBLIC
PRIORITY:5
TRANSP:OPAQUE
END:VEVENT
END:VCALENDAR
