BEGIN:VCALENDAR
PRODID:-//http://statistik.d-u-v.org//PHP ultracalendar//EN
VERSION:2.0
METHOD:PUBLISH
BEGIN:VEVENT
DTSTAMP:20260419T185736
CREATED:20100701T173603
UID:1776625056.0.75127200-7360@statistik.d-u-v.org
SUMMARY:24 Hours of Laramie
DESCRIPTION: 24 Hours of Laramie\n
  \n
  
DTSTART:20070629T000000
DTEND:20070630T235900
LOCATION:Laramie, WY\, USA
URL:http://geminiadventures.com/laramie100.html
CATEGORIES:Ultramarathon
CONTACT:
CLASS:PUBLIC
PRIORITY:5
TRANSP:OPAQUE
END:VEVENT
END:VCALENDAR
