BEGIN:VCALENDAR
PRODID:-//http://statistik.d-u-v.org//PHP ultracalendar//EN
VERSION:2.0
METHOD:PUBLISH
BEGIN:VEVENT
DTSTAMP:20260423T002753
CREATED:20201217T145519
UID:1776904073.0.77475400-73588@statistik.d-u-v.org
SUMMARY:Etappenlauf Tallinn - Berlin
DESCRIPTION: Etappenlauf Tallinn - Berlin\n
  Oliver Witzke\n
  raceacrosseurope[at]web.de
DTSTART:20220501T080000
DTEND:20220523T180000
LOCATION:Tallinn\, EST
URL:http://www.race-across-europe.com
CATEGORIES:Ultramarathon
CONTACT:Oliver Witzke
CLASS:PUBLIC
PRIORITY:5
TRANSP:OPAQUE
END:VEVENT
END:VCALENDAR
