BEGIN:VCALENDAR
PRODID:-//http://statistik.d-u-v.org//PHP ultracalendar//EN
VERSION:2.0
METHOD:PUBLISH
BEGIN:VEVENT
DTSTAMP:20260423T020157
CREATED:20201216T161940
UID:1776909717.0.08449300-73528@statistik.d-u-v.org
SUMMARY:Sydney to Wollongong
DESCRIPTION: Sydney to Wollongong\n
  \n
  
DTSTART:19801019T000000
DTEND:00000000T235900
LOCATION:Sydney, NSW\, AUS
URL:
CATEGORIES:Ultramarathon
CONTACT:
CLASS:PUBLIC
PRIORITY:5
TRANSP:OPAQUE
END:VEVENT
END:VCALENDAR
