BEGIN:VCALENDAR
PRODID:-//http://statistik.d-u-v.org//PHP ultracalendar//EN
VERSION:2.0
METHOD:PUBLISH
BEGIN:VEVENT
DTSTAMP:20260423T020347
CREATED:20201216T154859
UID:1776909827.0.98439000-73527@statistik.d-u-v.org
SUMMARY:Yellowdog Plains Run
DESCRIPTION: Yellowdog Plains Run\n
  \n
  
DTSTART:19840518T000000
DTEND:00000000T235900
LOCATION:Marquette, MI\, USA
URL:
CATEGORIES:Ultramarathon
CONTACT:
CLASS:PUBLIC
PRIORITY:5
TRANSP:OPAQUE
END:VEVENT
END:VCALENDAR
