BEGIN:VCALENDAR
PRODID:-//http://statistik.d-u-v.org//PHP ultracalendar//EN
VERSION:2.0
METHOD:PUBLISH
BEGIN:VEVENT
DTSTAMP:20260419T185808
CREATED:20201216T153718
UID:1776625088.0.55169400-73525@statistik.d-u-v.org
SUMMARY:Dawn to Dusk 12 Hour - 50mi Split
DESCRIPTION: Dawn to Dusk 12 Hour - 50mi Split\n
  \n
  
DTSTART:19840520T070000
DTEND:00000000T235900
LOCATION:Springfield, PA\, USA
URL:
CATEGORIES:Ultramarathon
CONTACT:
CLASS:PUBLIC
PRIORITY:5
TRANSP:OPAQUE
END:VEVENT
END:VCALENDAR
