BEGIN:VCALENDAR
PRODID:-//http://statistik.d-u-v.org//PHP ultracalendar//EN
VERSION:2.0
METHOD:PUBLISH
BEGIN:VEVENT
DTSTAMP:20260419T192504
CREATED:20201216T113243
UID:1776626704.0.89115400-73488@statistik.d-u-v.org
SUMMARY:Midwest Everest 100 Mile Race
DESCRIPTION: Midwest Everest 100 Mile Race\n
  \n
  
DTSTART:20210925T070000
DTEND:20210926T235900
LOCATION:Belmont, MI\, USA
URL:https://westmichiganwhiskeyrollers.com/
CATEGORIES:Ultramarathon
CONTACT:
CLASS:PUBLIC
PRIORITY:5
TRANSP:OPAQUE
END:VEVENT
END:VCALENDAR
