BEGIN:VCALENDAR
PRODID:-//http://statistik.d-u-v.org//PHP ultracalendar//EN
VERSION:2.0
METHOD:PUBLISH
BEGIN:VEVENT
DTSTAMP:20260419T162909
CREATED:20100630T170825
UID:1776616149.0.48399900-7347@statistik.d-u-v.org
SUMMARY:Fast Trax Ultra 100km - 50km Split
DESCRIPTION: Fast Trax Ultra 100km - 50km Split\n
  \n
  
DTSTART:20100626T070000
DTEND:00000000T235900
LOCATION:Edmonton, AB\, CAN
URL:http://ultra.fasttraxskishop.com/
CATEGORIES:Ultramarathon
CONTACT:
CLASS:PUBLIC
PRIORITY:5
TRANSP:OPAQUE
END:VEVENT
END:VCALENDAR
