BEGIN:VCALENDAR
PRODID:-//http://statistik.d-u-v.org//PHP ultracalendar//EN
VERSION:2.0
METHOD:PUBLISH
BEGIN:VEVENT
DTSTAMP:20260419T192120
CREATED:20201213T220019
UID:1776626480.0.51558600-73402@statistik.d-u-v.org
SUMMARY:Pine Mountain Trail Run
DESCRIPTION: Pine Mountain Trail Run\n
  Thomas Armbruster, Race Director\n
  pm40[at]getguts.com
DTSTART:20201206T070000
DTEND:00000000T235900
LOCATION:Pine Mountain, GA\, USA
URL:http://www.getguts.com/our-races/pine-mountain.html
CATEGORIES:Ultramarathon
CONTACT:Thomas Armbruster, Race Director
CLASS:PUBLIC
PRIORITY:5
TRANSP:OPAQUE
END:VEVENT
END:VCALENDAR
