BEGIN:VCALENDAR
PRODID:-//http://statistik.d-u-v.org//PHP ultracalendar//EN
VERSION:2.0
METHOD:PUBLISH
BEGIN:VEVENT
DTSTAMP:20260424T150801
CREATED:20201213T002845
UID:1777043281.0.27366800-73373@statistik.d-u-v.org
SUMMARY:SM90 (Sälen-Mora 90 km)
DESCRIPTION: SM90 (Sälen-Mora 90 km)\n
  Jan Söderkvist, Cecilia Petersson, Jonas Buud\n
  
DTSTART:20100821T000000
DTEND:00000000T235900
LOCATION:Sälen\, SWE
URL:http://www.vasaloppet.se/
CATEGORIES:Ultramarathon
CONTACT:Jan Söderkvist, Cecilia Petersson, Jonas Buud
CLASS:PUBLIC
PRIORITY:5
TRANSP:OPAQUE
END:VEVENT
END:VCALENDAR
