BEGIN:VCALENDAR
PRODID:-//http://statistik.d-u-v.org//PHP ultracalendar//EN
VERSION:2.0
METHOD:PUBLISH
BEGIN:VEVENT
DTSTAMP:20260424T150753
CREATED:20201213T002632
UID:1777043273.0.71765000-73368@statistik.d-u-v.org
SUMMARY:Vasastafetten - single
DESCRIPTION: Vasastafetten - single\n
  \n
  
DTSTART:20020803T000000
DTEND:00000000T235900
LOCATION:Sälen\, SWE
URL:http://www.vasaloppet.se/
CATEGORIES:Ultramarathon
CONTACT:
CLASS:PUBLIC
PRIORITY:5
TRANSP:OPAQUE
END:VEVENT
END:VCALENDAR
