BEGIN:VCALENDAR
PRODID:-//http://statistik.d-u-v.org//PHP ultracalendar//EN
VERSION:2.0
METHOD:PUBLISH
BEGIN:VEVENT
DTSTAMP:20260423T041206
CREATED:20201210T205234
UID:1776917526.0.31939500-73331@statistik.d-u-v.org
SUMMARY:Taunus-Ultratrail 50km
DESCRIPTION: Taunus-Ultratrail 50km\n
  Bert Kirchner\n
  info[at]taunus-ultratrail.de
DTSTART:20220108T080000
DTEND:00000000T235900
LOCATION:Wiesbaden\, GER
URL:http://www.taunus-ultratrail.de
CATEGORIES:Ultramarathon
CONTACT:Bert Kirchner
CLASS:PUBLIC
PRIORITY:5
TRANSP:OPAQUE
END:VEVENT
END:VCALENDAR
