BEGIN:VCALENDAR
PRODID:-//http://statistik.d-u-v.org//PHP ultracalendar//EN
VERSION:2.0
METHOD:PUBLISH
BEGIN:VEVENT
DTSTAMP:20260419T183358
CREATED:20201207T195736
UID:1776623638.0.64907700-73211@statistik.d-u-v.org
SUMMARY:Capt'n Karl's Trail Series  - Reveille Peak Ranch
DESCRIPTION: Capt'n Karl's Trail Series  - Reveille Peak Ranch\n
  \n
  brad[at]traverserunning.com
DTSTART:20210828T190000
DTEND:20210829T235900
LOCATION:Burnet, TX\, USA
URL:http://www.tejastrails.com/ck-reveille/
CATEGORIES:Ultramarathon
CONTACT:
CLASS:PUBLIC
PRIORITY:5
TRANSP:OPAQUE
END:VEVENT
END:VCALENDAR
