BEGIN:VCALENDAR
PRODID:-//http://statistik.d-u-v.org//PHP ultracalendar//EN
VERSION:2.0
METHOD:PUBLISH
BEGIN:VEVENT
DTSTAMP:20260423T020225
CREATED:20201206T001832
UID:1776909745.0.54072500-73165@statistik.d-u-v.org
SUMMARY:Hallands Ultra-Beach Trailrun (HUB II: Fjorden och Berget)
DESCRIPTION: Hallands Ultra-Beach Trailrun (HUB II: Fjorden och Berget)\n
  \n
  info[at]hubtrail.se
DTSTART:20210806T000000
DTEND:00000000T235900
LOCATION:Göteborg\, SWE
URL:http://www.hubtrail.se/
CATEGORIES:Ultramarathon
CONTACT:
CLASS:PUBLIC
PRIORITY:5
TRANSP:OPAQUE
END:VEVENT
END:VCALENDAR
