BEGIN:VCALENDAR
PRODID:-//http://statistik.d-u-v.org//PHP ultracalendar//EN
VERSION:2.0
METHOD:PUBLISH
BEGIN:VEVENT
DTSTAMP:20260423T014718
CREATED:20201206T001413
UID:1776908838.0.55014400-73161@statistik.d-u-v.org
SUMMARY:Hallands Ultra-Beach Trailrun (HUB 200 miles)
DESCRIPTION: Hallands Ultra-Beach Trailrun (HUB 200 miles)\n
  \n
  info[at]hubtrail.se
DTSTART:20210805T200000
DTEND:00000000T235900
LOCATION:Göteborg\, SWE
URL:http://www.hubtrail.se/
CATEGORIES:Ultramarathon
CONTACT:
CLASS:PUBLIC
PRIORITY:5
TRANSP:OPAQUE
END:VEVENT
END:VCALENDAR
