BEGIN:VCALENDAR
PRODID:-//http://statistik.d-u-v.org//PHP ultracalendar//EN
VERSION:2.0
METHOD:PUBLISH
BEGIN:VEVENT
DTSTAMP:20260424T215731
CREATED:20201202T214441
UID:1777067851.0.85734400-73018@statistik.d-u-v.org
SUMMARY:Granan Backyard Ultra
DESCRIPTION: Granan Backyard Ultra\n
  Peter Johansson\n
  anmalan[at]grananbackyardultra.se
DTSTART:20210612T100000
DTEND:00000000T235900
LOCATION:Brålanda, Granan\, SWE
URL:http://grananbackyardultra.se
CATEGORIES:Ultramarathon
CONTACT:Peter Johansson
CLASS:PUBLIC
PRIORITY:5
TRANSP:OPAQUE
END:VEVENT
END:VCALENDAR
