BEGIN:VCALENDAR
PRODID:-//http://statistik.d-u-v.org//PHP ultracalendar//EN
VERSION:2.0
METHOD:PUBLISH
BEGIN:VEVENT
DTSTAMP:20260419T223147
CREATED:20201202T214335
UID:1776637907.0.33128000-73017@statistik.d-u-v.org
SUMMARY:Älvdalen Backyard Ultra - race 1
DESCRIPTION: Älvdalen Backyard Ultra - race 1\n
  \n
  info[at]swedenrunners.se
DTSTART:20210619T100000
DTEND:00000000T235900
LOCATION:Älvdalen\, SWE
URL:https://swedenrunners.se/abu/
CATEGORIES:Ultramarathon
CONTACT:
CLASS:PUBLIC
PRIORITY:5
TRANSP:OPAQUE
END:VEVENT
END:VCALENDAR
