BEGIN:VCALENDAR
PRODID:-//http://statistik.d-u-v.org//PHP ultracalendar//EN
VERSION:2.0
METHOD:PUBLISH
BEGIN:VEVENT
DTSTAMP:20260424T093632
CREATED:20210221T215632
UID:1777023392.0.17788600-72974@statistik.d-u-v.org
SUMMARY:Belfast to Dublin Peace Run
DESCRIPTION: Belfast to Dublin Peace Run\n
  \n
  
DTSTART:19960831T000000
DTEND:00000000T235900
LOCATION:Belfast\, GBR
URL:
CATEGORIES:Ultramarathon
CONTACT:
CLASS:PUBLIC
PRIORITY:5
TRANSP:OPAQUE
END:VEVENT
END:VCALENDAR
