BEGIN:VCALENDAR
PRODID:-//http://statistik.d-u-v.org//PHP ultracalendar//EN
VERSION:2.0
METHOD:PUBLISH
BEGIN:VEVENT
DTSTAMP:20260419T213507
CREATED:20201201T145349
UID:1776634507.0.97260200-72972@statistik.d-u-v.org
SUMMARY:Frosty Fat Sass 6 Hour Run
DESCRIPTION: Frosty Fat Sass 6 Hour Run\n
  \n
  
DTSTART:20210116T090000
DTEND:00000000T235900
LOCATION:West Orange, NJ\, USA
URL:https://ultrasignup.com/register.aspx?did=70605
CATEGORIES:Ultramarathon
CONTACT:
CLASS:PUBLIC
PRIORITY:5
TRANSP:OPAQUE
END:VEVENT
END:VCALENDAR
