BEGIN:VCALENDAR
PRODID:-//http://statistik.d-u-v.org//PHP ultracalendar//EN
VERSION:2.0
METHOD:PUBLISH
BEGIN:VEVENT
DTSTAMP:20260419T185828
CREATED:20201130T213558
UID:1776625108.0.13158700-72946@statistik.d-u-v.org
SUMMARY:100 km du Périgord Noir, Belves - Championnats de France
DESCRIPTION: 100 km du Périgord Noir, Belves - Championnats de France\n
  \n
  
DTSTART:19980425T000000
DTEND:19980426T235900
LOCATION:Belves\, FRA
URL:http://www.100kmbelves.com/
CATEGORIES:Ultramarathon
CONTACT:
CLASS:PUBLIC
PRIORITY:5
TRANSP:OPAQUE
END:VEVENT
END:VCALENDAR
