BEGIN:VCALENDAR
PRODID:-//http://statistik.d-u-v.org//PHP ultracalendar//EN
VERSION:2.0
METHOD:PUBLISH
BEGIN:VEVENT
DTSTAMP:20260423T002811
CREATED:20201129T130748
UID:1776904091.0.60074000-72875@statistik.d-u-v.org
SUMMARY:TRT Running All In 50km
DESCRIPTION: TRT Running All In 50km\n
  Michelle McAdam\n
  
DTSTART:20201025T000000
DTEND:00000000T235900
LOCATION:Richmond, NSW\, AUS
URL:
CATEGORIES:Ultramarathon
CONTACT:Michelle McAdam
CLASS:PUBLIC
PRIORITY:5
TRANSP:OPAQUE
END:VEVENT
END:VCALENDAR
