BEGIN:VCALENDAR
PRODID:-//http://statistik.d-u-v.org//PHP ultracalendar//EN
VERSION:2.0
METHOD:PUBLISH
BEGIN:VEVENT
DTSTAMP:20260424T214816
CREATED:20201127T160036
UID:1777067296.0.86115900-72853@statistik.d-u-v.org
SUMMARY:Seoul 50 Mile Ultra Marathon
DESCRIPTION: Seoul 50 Mile Ultra Marathon\n
  \n
  mspm5847[at]yahoo.co.kr
DTSTART:20090808T070000
DTEND:00000000T235900
LOCATION:Seoul City\, KOR
URL:http://www.sijung.co.kr/news/articleView.html?idxno=45764
CATEGORIES:Ultramarathon
CONTACT:
CLASS:PUBLIC
PRIORITY:5
TRANSP:OPAQUE
END:VEVENT
END:VCALENDAR
