BEGIN:VCALENDAR
PRODID:-//http://statistik.d-u-v.org//PHP ultracalendar//EN
VERSION:2.0
METHOD:PUBLISH
BEGIN:VEVENT
DTSTAMP:20260421T143125
CREATED:20201126T174256
UID:1776781885.0.46120800-72816@statistik.d-u-v.org
SUMMARY:Trail des 3 Couvents - Grande Chartreuse
DESCRIPTION: Trail des 3 Couvents - Grande Chartreuse\n
  \n
  
DTSTART:20210502T073000
DTEND:00000000T235900
LOCATION:Saint-Laurent-du-Pont\, FRA
URL:https://traildes3couvents.wordpress.com/
CATEGORIES:Ultramarathon
CONTACT:
CLASS:PUBLIC
PRIORITY:5
TRANSP:OPAQUE
END:VEVENT
END:VCALENDAR
