BEGIN:VCALENDAR
PRODID:-//http://statistik.d-u-v.org//PHP ultracalendar//EN
VERSION:2.0
METHOD:PUBLISH
BEGIN:VEVENT
DTSTAMP:20260423T043434
CREATED:20201124T163716
UID:1776918874.0.42951100-72787@statistik.d-u-v.org
SUMMARY:G1 Grüngürtel Ultra Köln
DESCRIPTION: G1 Grüngürtel Ultra Köln\n
  Thorsten Klenke\n
  thorsten[at]gruenguertelultra.de
DTSTART:20220109T083000
DTEND:20220109T190000
LOCATION:Köln\, GER
URL:https://www.gruenguertelultra.de
CATEGORIES:Ultramarathon
CONTACT:Thorsten Klenke
CLASS:PUBLIC
PRIORITY:5
TRANSP:OPAQUE
END:VEVENT
END:VCALENDAR
